BEGIN:VCALENDAR
VERSION:2.0
PRODID:-//Beavers Bend Cabin Country - ECPv6.15.20//NONSGML v1.0//EN
CALSCALE:GREGORIAN
METHOD:PUBLISH
X-WR-CALNAME:Beavers Bend Cabin Country
X-ORIGINAL-URL:https://beaversbendcabincountry.com
X-WR-CALDESC:Events for Beavers Bend Cabin Country
REFRESH-INTERVAL;VALUE=DURATION:PT1H
X-Robots-Tag:noindex
X-PUBLISHED-TTL:PT1H
BEGIN:VTIMEZONE
TZID:America/Chicago
BEGIN:DAYLIGHT
TZOFFSETFROM:-0600
TZOFFSETTO:-0500
TZNAME:CDT
DTSTART:20250309T080000
END:DAYLIGHT
BEGIN:STANDARD
TZOFFSETFROM:-0500
TZOFFSETTO:-0600
TZNAME:CST
DTSTART:20251102T070000
END:STANDARD
BEGIN:DAYLIGHT
TZOFFSETFROM:-0600
TZOFFSETTO:-0500
TZNAME:CDT
DTSTART:20260308T080000
END:DAYLIGHT
BEGIN:STANDARD
TZOFFSETFROM:-0500
TZOFFSETTO:-0600
TZNAME:CST
DTSTART:20261101T070000
END:STANDARD
BEGIN:DAYLIGHT
TZOFFSETFROM:-0600
TZOFFSETTO:-0500
TZNAME:CDT
DTSTART:20270314T080000
END:DAYLIGHT
BEGIN:STANDARD
TZOFFSETFROM:-0500
TZOFFSETTO:-0600
TZNAME:CST
DTSTART:20271107T070000
END:STANDARD
END:VTIMEZONE
BEGIN:VEVENT
DTSTART;VALUE=DATE:20260424
DTEND;VALUE=DATE:20260427
DTSTAMP:20260425T051840
CREATED:20260313T202628Z
LAST-MODIFIED:20260313T202628Z
UID:10000341-1776988800-1777247999@beaversbendcabincountry.com
SUMMARY:Meet & Greet Ride
DESCRIPTION:
URL:https://beaversbendcabincountry.com/event/meet-greet-ride/
LOCATION:Hochatown Distillery\, 41 N Lukfata Trl Rd\, Broken Bow\, OK 74728
ATTACH;FMTTYPE=image/jpeg:https://beaversbendcabincountry.com/wp-content/uploads/2026/03/IMG_8956.jpg
END:VEVENT
BEGIN:VEVENT
DTSTART;TZID=America/Chicago:20260424T190000
DTEND;TZID=America/Chicago:20260424T210000
DTSTAMP:20260425T051840
CREATED:20260422T210844Z
LAST-MODIFIED:20260422T210844Z
UID:10000886-1777057200-1777064400@beaversbendcabincountry.com
SUMMARY:Music on Main with Trey Rose
DESCRIPTION:
URL:https://beaversbendcabincountry.com/event/music-on-main-with-trey-rose/
LOCATION:Downtown Broken Bow\, Broadway St\, Brok\, OK\, 74728\, United States
ATTACH;FMTTYPE=image/webp:https://beaversbendcabincountry.com/wp-content/uploads/2026/04/imagepng_0.webp
END:VEVENT
BEGIN:VEVENT
DTSTART;TZID=America/Chicago:20260424T190000
DTEND;TZID=America/Chicago:20260424T213000
DTSTAMP:20260425T051840
CREATED:20260415T165218Z
LAST-MODIFIED:20260415T165218Z
UID:10000885-1777057200-1777066200@beaversbendcabincountry.com
SUMMARY:Live Music w/ Trey Rose at the Broken Bow Downtown Amphitheater
DESCRIPTION:
URL:https://beaversbendcabincountry.com/event/live-music-w-trey-rose-at-the-broken-bow-downtown-amphitheater/
LOCATION:Broken Bow Amphitheatre\, 116 N Main St\, Broken Bow\, OK\, 74728\, United States
END:VEVENT
END:VCALENDAR