BEGIN:VCALENDAR
VERSION:2.0
PRODID:-//Beavers Bend Cabin Country - ECPv6.15.20//NONSGML v1.0//EN
CALSCALE:GREGORIAN
METHOD:PUBLISH
X-WR-CALNAME:Beavers Bend Cabin Country
X-ORIGINAL-URL:https://beaversbendcabincountry.com
X-WR-CALDESC:Events for Beavers Bend Cabin Country
REFRESH-INTERVAL;VALUE=DURATION:PT1H
X-Robots-Tag:noindex
X-PUBLISHED-TTL:PT1H
BEGIN:VTIMEZONE
TZID:America/Chicago
BEGIN:DAYLIGHT
TZOFFSETFROM:-0600
TZOFFSETTO:-0500
TZNAME:CDT
DTSTART:20250309T080000
END:DAYLIGHT
BEGIN:STANDARD
TZOFFSETFROM:-0500
TZOFFSETTO:-0600
TZNAME:CST
DTSTART:20251102T070000
END:STANDARD
BEGIN:DAYLIGHT
TZOFFSETFROM:-0600
TZOFFSETTO:-0500
TZNAME:CDT
DTSTART:20260308T080000
END:DAYLIGHT
BEGIN:STANDARD
TZOFFSETFROM:-0500
TZOFFSETTO:-0600
TZNAME:CST
DTSTART:20261101T070000
END:STANDARD
BEGIN:DAYLIGHT
TZOFFSETFROM:-0600
TZOFFSETTO:-0500
TZNAME:CDT
DTSTART:20270314T080000
END:DAYLIGHT
BEGIN:STANDARD
TZOFFSETFROM:-0500
TZOFFSETTO:-0600
TZNAME:CST
DTSTART:20271107T070000
END:STANDARD
END:VTIMEZONE
BEGIN:VEVENT
DTSTART;VALUE=DATE:20260424
DTEND;VALUE=DATE:20260427
DTSTAMP:20260425T051839
CREATED:20260313T202628Z
LAST-MODIFIED:20260313T202628Z
UID:10000341-1776988800-1777247999@beaversbendcabincountry.com
SUMMARY:Meet & Greet Ride
DESCRIPTION:
URL:https://beaversbendcabincountry.com/event/meet-greet-ride/
LOCATION:Hochatown Distillery\, 41 N Lukfata Trl Rd\, Broken Bow\, OK 74728
ATTACH;FMTTYPE=image/jpeg:https://beaversbendcabincountry.com/wp-content/uploads/2026/03/IMG_8956.jpg
END:VEVENT
BEGIN:VEVENT
DTSTART;VALUE=DATE:20260425
DTEND;VALUE=DATE:20260426
DTSTAMP:20260425T051839
CREATED:20260317T160510Z
LAST-MODIFIED:20260317T160510Z
UID:10000870-1777075200-1777161599@beaversbendcabincountry.com
SUMMARY:Brew & Tunes: Every Saturday at Beavers Bend Brewery
DESCRIPTION:
URL:https://beaversbendcabincountry.com/event/brew-tunes-every-saturday-at-beavers-bend-brewery/2026-04-25/
LOCATION:Beavers Bend Brewery\, 46 Coho Rd\, Broken Bow\, OK\, 74728\, United States
ATTACH;FMTTYPE=image/jpeg:https://beaversbendcabincountry.com/wp-content/uploads/2026/03/IMG_8969-1.jpg
END:VEVENT
END:VCALENDAR