BEGIN:VCALENDAR
VERSION:2.0
PRODID:-//Beavers Bend Cabin Country - ECPv6.15.20//NONSGML v1.0//EN
CALSCALE:GREGORIAN
METHOD:PUBLISH
X-ORIGINAL-URL:https://beaversbendcabincountry.com
X-WR-CALDESC:Events for Beavers Bend Cabin Country
REFRESH-INTERVAL;VALUE=DURATION:PT1H
X-Robots-Tag:noindex
X-PUBLISHED-TTL:PT1H
BEGIN:VTIMEZONE
TZID:America/Chicago
BEGIN:DAYLIGHT
TZOFFSETFROM:-0600
TZOFFSETTO:-0500
TZNAME:CDT
DTSTART:20230312T080000
END:DAYLIGHT
BEGIN:STANDARD
TZOFFSETFROM:-0500
TZOFFSETTO:-0600
TZNAME:CST
DTSTART:20231105T070000
END:STANDARD
BEGIN:DAYLIGHT
TZOFFSETFROM:-0600
TZOFFSETTO:-0500
TZNAME:CDT
DTSTART:20240310T080000
END:DAYLIGHT
BEGIN:STANDARD
TZOFFSETFROM:-0500
TZOFFSETTO:-0600
TZNAME:CST
DTSTART:20241103T070000
END:STANDARD
BEGIN:DAYLIGHT
TZOFFSETFROM:-0600
TZOFFSETTO:-0500
TZNAME:CDT
DTSTART:20250309T080000
END:DAYLIGHT
BEGIN:STANDARD
TZOFFSETFROM:-0500
TZOFFSETTO:-0600
TZNAME:CST
DTSTART:20251102T070000
END:STANDARD
BEGIN:DAYLIGHT
TZOFFSETFROM:-0600
TZOFFSETTO:-0500
TZNAME:CDT
DTSTART:20260308T080000
END:DAYLIGHT
BEGIN:STANDARD
TZOFFSETFROM:-0500
TZOFFSETTO:-0600
TZNAME:CST
DTSTART:20261101T070000
END:STANDARD
END:VTIMEZONE
BEGIN:VEVENT
DTSTART;TZID=America/Chicago:20250830T180000
DTEND;TZID=America/Chicago:20250830T210000
DTSTAMP:20260424T045653
CREATED:20250824T195142Z
LAST-MODIFIED:20250824T195142Z
UID:10000044-1756576800-1756587600@beaversbendcabincountry.com
SUMMARY:Jairumuiah Ford Band at Mountain Fork Brewery
DESCRIPTION:
URL:https://beaversbendcabincountry.com/event/jairumuiah-ford-band-at-mountain-fork-brewery/
LOCATION:Mountain Fork Brewery\, 89 N Lukfata Trl Rd\, Hochatown\, OK\, 74728\, United States
CATEGORIES:Live Music
ATTACH;FMTTYPE=image/jpeg:https://beaversbendcabincountry.com/wp-content/uploads/2025/08/495069583_122175431396291771_1052628023483981419_n-bCi0GP.jpg
END:VEVENT
BEGIN:VEVENT
DTSTART;TZID=America/Chicago:20250509T180000
DTEND;TZID=America/Chicago:20250509T210000
DTSTAMP:20260424T045653
CREATED:20250824T195336Z
LAST-MODIFIED:20250824T195336Z
UID:10000068-1746813600-1746824400@beaversbendcabincountry.com
SUMMARY:Chris Ryan at Mountain Fork Brewery
DESCRIPTION:
URL:https://beaversbendcabincountry.com/event/chris-ryan-at-mountain-fork-brewery/
LOCATION:Mountain Fork Brewery\, 89 N Lukfata Trl Rd\, Hochatown\, OK\, 74728\, United States
CATEGORIES:Live Music
ATTACH;FMTTYPE=image/jpeg:https://beaversbendcabincountry.com/wp-content/uploads/2025/08/IMG_3492-dqmoNr.jpg
END:VEVENT
BEGIN:VEVENT
DTSTART;TZID=America/Chicago:20250418T190000
DTEND;TZID=America/Chicago:20250418T210000
DTSTAMP:20260424T045653
CREATED:20250824T195458Z
LAST-MODIFIED:20250824T195504Z
UID:10000089-1745002800-1745010000@beaversbendcabincountry.com
SUMMARY:Earl Band @ Mountain Fork Brewery
DESCRIPTION:
URL:https://beaversbendcabincountry.com/event/earl-band-mountain-fork-brewery/
LOCATION:Mountain Fork Brewery\, 89 N Lukfata Trl Rd\, Hochatown\, OK\, 74728\, United States
CATEGORIES:Live Music
ATTACH;FMTTYPE=image/jpeg:https://beaversbendcabincountry.com/wp-content/uploads/2025/08/IMG_3018-T9IiPm.jpg
END:VEVENT
BEGIN:VEVENT
DTSTART;TZID=America/Chicago:20241130T180000
DTEND;TZID=America/Chicago:20241130T210000
DTSTAMP:20260424T045653
CREATED:20250824T200336Z
LAST-MODIFIED:20250824T200336Z
UID:10000222-1732989600-1733000400@beaversbendcabincountry.com
SUMMARY:90s Country and More with The Crowd Acoustic
DESCRIPTION:
URL:https://beaversbendcabincountry.com/event/90s-country-and-more-with-the-crowd-acoustic/
LOCATION:Mountain Fork Brewery\, 89 N Lukfata Trl Rd\, Hochatown\, OK\, 74728\, United States
CATEGORIES:Live Music
END:VEVENT
BEGIN:VEVENT
DTSTART;TZID=America/Chicago:20241019T183000
DTEND;TZID=America/Chicago:20241019T213000
DTSTAMP:20260424T045653
CREATED:20250824T195847Z
LAST-MODIFIED:20250824T195847Z
UID:10000169-1729362600-1729373400@beaversbendcabincountry.com
SUMMARY:Blade Petty
DESCRIPTION:
URL:https://beaversbendcabincountry.com/event/blade-petty/
LOCATION:Mountain Fork Brewery\, 89 N Lukfata Trl Rd\, Hochatown\, OK\, 74728\, United States
CATEGORIES:Live Music
END:VEVENT
BEGIN:VEVENT
DTSTART;TZID=America/Chicago:20241018T183000
DTEND;TZID=America/Chicago:20241018T213000
DTSTAMP:20260424T045653
CREATED:20250824T195848Z
LAST-MODIFIED:20250824T195848Z
UID:10000170-1729276200-1729287000@beaversbendcabincountry.com
SUMMARY:Glenn Parker
DESCRIPTION:
URL:https://beaversbendcabincountry.com/event/glenn-parker/
LOCATION:Mountain Fork Brewery\, 89 N Lukfata Trl Rd\, Hochatown\, OK\, 74728\, United States
CATEGORIES:Live Music
END:VEVENT
BEGIN:VEVENT
DTSTART;TZID=America/Chicago:20241012T183000
DTEND;TZID=America/Chicago:20241012T213000
DTSTAMP:20260424T045653
CREATED:20250824T195849Z
LAST-MODIFIED:20250824T195849Z
UID:10000171-1728757800-1728768600@beaversbendcabincountry.com
SUMMARY:Cody Cresswell
DESCRIPTION:
URL:https://beaversbendcabincountry.com/event/cody-cresswell/
LOCATION:Mountain Fork Brewery\, 89 N Lukfata Trl Rd\, Hochatown\, OK\, 74728\, United States
CATEGORIES:Live Music
END:VEVENT
BEGIN:VEVENT
DTSTART;TZID=America/Chicago:20241011T183000
DTEND;TZID=America/Chicago:20241011T213000
DTSTAMP:20260424T045653
CREATED:20250824T195850Z
LAST-MODIFIED:20250824T195850Z
UID:10000172-1728671400-1728682200@beaversbendcabincountry.com
SUMMARY:Trey Lockhard
DESCRIPTION:
URL:https://beaversbendcabincountry.com/event/trey-lockhard/
LOCATION:Mountain Fork Brewery\, 89 N Lukfata Trl Rd\, Hochatown\, OK\, 74728\, United States
CATEGORIES:Live Music
END:VEVENT
BEGIN:VEVENT
DTSTART;TZID=America/Chicago:20240914T060000
DTEND;TZID=America/Chicago:20240914T210000
DTSTAMP:20260424T045653
CREATED:20250824T200355Z
LAST-MODIFIED:20250824T200401Z
UID:10000232-1726293600-1726347600@beaversbendcabincountry.com
SUMMARY:Chris Cunningham
DESCRIPTION:
URL:https://beaversbendcabincountry.com/event/chris-cunningham/
LOCATION:Mountain Fork Brewery\, 89 N Lukfata Trl Rd\, Hochatown\, OK\, 74728\, United States
CATEGORIES:Live Music
END:VEVENT
BEGIN:VEVENT
DTSTART;TZID=America/Chicago:20240913T180000
DTEND;TZID=America/Chicago:20240913T210000
DTSTAMP:20260424T045653
CREATED:20250824T200405Z
LAST-MODIFIED:20250824T200405Z
UID:10000233-1726250400-1726261200@beaversbendcabincountry.com
SUMMARY:Chris Cunningham
DESCRIPTION:
URL:https://beaversbendcabincountry.com/event/chris-cunningham-2/
LOCATION:Mountain Fork Brewery\, 89 N Lukfata Trl Rd\, Hochatown\, OK\, 74728\, United States
CATEGORIES:Live Music
END:VEVENT
BEGIN:VEVENT
DTSTART;TZID=America/Chicago:20240906T180000
DTEND;TZID=America/Chicago:20240906T230000
DTSTAMP:20260424T045653
CREATED:20250824T200322Z
LAST-MODIFIED:20250824T200322Z
UID:10000216-1725645600-1725663600@beaversbendcabincountry.com
SUMMARY:Asphalt Cowboys
DESCRIPTION:
URL:https://beaversbendcabincountry.com/event/asphalt-cowboys/
LOCATION:Mountain Fork Brewery\, 89 N Lukfata Trl Rd\, Hochatown\, OK\, 74728\, United States
CATEGORIES:Live Music
END:VEVENT
BEGIN:VEVENT
DTSTART;TZID=America/Chicago:20240720T180000
DTEND;TZID=America/Chicago:20240720T210000
DTSTAMP:20260424T045653
CREATED:20250824T200453Z
LAST-MODIFIED:20250824T200453Z
UID:10000254-1721498400-1721509200@beaversbendcabincountry.com
SUMMARY:90’s Country/Rock Tribute Band
DESCRIPTION:
URL:https://beaversbendcabincountry.com/event/90s-country-rock-tribute-band/
LOCATION:Mountain Fork Brewery\, 89 N Lukfata Trl Rd\, Hochatown\, OK\, 74728\, United States
CATEGORIES:Live Music
ATTACH;FMTTYPE=image/jpeg:https://beaversbendcabincountry.com/wp-content/uploads/2025/08/event-90s-country-rock-9mMlaR.jpg
END:VEVENT
END:VCALENDAR